BEGIN:VCALENDAR
VERSION:2.0
PRODID:-//Parc PawPaw ¦ Découvertes Nature ¦ Genève - ECPv6.15.20//NONSGML v1.0//EN
CALSCALE:GREGORIAN
METHOD:PUBLISH
X-ORIGINAL-URL:https://parcpawpaw.ch
X-WR-CALDESC:Évènements pour Parc PawPaw ¦ Découvertes Nature ¦ Genève
REFRESH-INTERVAL;VALUE=DURATION:PT1H
X-Robots-Tag:noindex
X-PUBLISHED-TTL:PT1H
BEGIN:VTIMEZONE
TZID:Europe/Zurich
BEGIN:DAYLIGHT
TZOFFSETFROM:+0100
TZOFFSETTO:+0200
TZNAME:CEST
DTSTART:20240331T010000
END:DAYLIGHT
BEGIN:STANDARD
TZOFFSETFROM:+0200
TZOFFSETTO:+0100
TZNAME:CET
DTSTART:20241027T010000
END:STANDARD
BEGIN:DAYLIGHT
TZOFFSETFROM:+0100
TZOFFSETTO:+0200
TZNAME:CEST
DTSTART:20250330T010000
END:DAYLIGHT
BEGIN:STANDARD
TZOFFSETFROM:+0200
TZOFFSETTO:+0100
TZNAME:CET
DTSTART:20251026T010000
END:STANDARD
BEGIN:DAYLIGHT
TZOFFSETFROM:+0100
TZOFFSETTO:+0200
TZNAME:CEST
DTSTART:20260329T010000
END:DAYLIGHT
BEGIN:STANDARD
TZOFFSETFROM:+0200
TZOFFSETTO:+0100
TZNAME:CET
DTSTART:20261025T010000
END:STANDARD
END:VTIMEZONE
BEGIN:VEVENT
DTSTART;TZID=Europe/Zurich:20251012T130000
DTEND;TZID=Europe/Zurich:20251012T153000
DTSTAMP:20260420T135916
CREATED:20250319T102139Z
LAST-MODIFIED:20251026T165646Z
UID:10000121-1760274000-1760283000@parcpawpaw.ch
SUMMARY:Graines de Noël | Des cadeaux vivants à semer au printemps!
DESCRIPTION:Dans le cadre de l’Observatoire Citoyen organisé une fois par mois par la médecin du village de Corsier\, Dre. Rola Darwiche\, le Parc PawPaw accueille les Dimanches Santé Verte durant lesquels un Atelier du Vivant est proposé par l’équipe PawPaw de 14h00 à 15h30. Au préalable\, le groupe participe à une séance de « jardinage intérieur »\, appelée l’écologie humaine\, à l’espace Yoga de Corsier. Puis\, un pique-nique avec dégustation en mindfuleating a lieu au Parc PawPaw aux alentours de 12h45.\nPour s’inscrire :\nContact tél: +41 76 481 47 79\nPlus d’informations sur le site web One Health Permaculture Geneva\n\n\nGraines de Noël – Des cadeaux vivants à semer au printemps!\nDécouvrez l’abondance du Vivant et comment récolter les semences de divers espèces comestibles et mellifères!\nLors de cet atelier pratique au Parc PawPaw\, nous glanerons ici et là des graines issues de plusieurs espèces végétales présentes au jardin-forêt du Parc PawPaw\, afin de confectionner des sachets de semences joliment décorés à offrir en cadeau pour Noël.\nUn merveilleux cadeau vivant à semer au printemps!\nNous découvrirons aussi la stratification\, une technique permettant de lever la dormance des graines et favoriser leur germination au printemps. En effet\, certains fruitiers que nous adorons nécessitent un froid prolongé pour germer. Une condition qui se voit particulièrement menacée par les hivers doux.\nBouturage\, marcottage et greffage seront également au menu des techniques permettant de créer une abondance exponentielle et transformer notre environnement en paysages vivants\, comestibles et thérapeutiques\, et ce\, pour pas un radis.\nOui\, le Vivant est abondamment généreux et partage volontiers ses cadeaux à ceux qui en sont ses gardiens!\n\nHoraires & Programme du Dimanche Santé Verte\n11h00 – 12h30\n1er atelier : L’écologie humaine\, « jardinage intérieur »\, à l’espace Yoga au village de Corsier\n12h45 – 14h00\n2ème atelier: L’écologie relationnelle\, pique-nique et dégustation en mindfuleating\, échanges libres au Parc PawPaw\n14h00 – 15h30\n3ème atelier: activité régénératrice du vivant\, cobénéfique pour l’humain et la planète (thème du jour) au Parc PawPaw
URL:https://parcpawpaw.ch/atelier/multiplication-vegetale-2/
LOCATION:Parc PawPaw\, Chemin des Groubeaux\, 1246\, Corsier\,\, Genève\, Suisse
CATEGORIES:Low-Tech,Permaculture
ATTACH;FMTTYPE=image/jpeg:https://parcpawpaw.ch/wp-content/uploads/2024/03/IMG-20240305-WA0007-e1724179602809.jpg
END:VEVENT
END:VCALENDAR