BEGIN:VCALENDAR
VERSION:2.0
PRODID:-//Parc PawPaw ¦ Découvertes Nature ¦ Genève - ECPv6.15.20//NONSGML v1.0//EN
CALSCALE:GREGORIAN
METHOD:PUBLISH
X-WR-CALNAME:Parc PawPaw ¦ Découvertes Nature ¦ Genève
X-ORIGINAL-URL:https://parcpawpaw.ch
X-WR-CALDESC:Évènements pour Parc PawPaw ¦ Découvertes Nature ¦ Genève
REFRESH-INTERVAL;VALUE=DURATION:PT1H
X-Robots-Tag:noindex
X-PUBLISHED-TTL:PT1H
BEGIN:VTIMEZONE
TZID:Europe/Zurich
BEGIN:DAYLIGHT
TZOFFSETFROM:+0100
TZOFFSETTO:+0200
TZNAME:CEST
DTSTART:20230326T010000
END:DAYLIGHT
BEGIN:STANDARD
TZOFFSETFROM:+0200
TZOFFSETTO:+0100
TZNAME:CET
DTSTART:20231029T010000
END:STANDARD
BEGIN:DAYLIGHT
TZOFFSETFROM:+0100
TZOFFSETTO:+0200
TZNAME:CEST
DTSTART:20240331T010000
END:DAYLIGHT
BEGIN:STANDARD
TZOFFSETFROM:+0200
TZOFFSETTO:+0100
TZNAME:CET
DTSTART:20241027T010000
END:STANDARD
BEGIN:DAYLIGHT
TZOFFSETFROM:+0100
TZOFFSETTO:+0200
TZNAME:CEST
DTSTART:20250330T010000
END:DAYLIGHT
BEGIN:STANDARD
TZOFFSETFROM:+0200
TZOFFSETTO:+0100
TZNAME:CET
DTSTART:20251026T010000
END:STANDARD
END:VTIMEZONE
BEGIN:VEVENT
DTSTART;TZID=Europe/Zurich:20240406T090000
DTEND;TZID=Europe/Zurich:20240406T120000
DTSTAMP:20260420T104453
CREATED:20240302T213019Z
LAST-MODIFIED:20240319T152823Z
UID:10000045-1712394000-1712404800@parcpawpaw.ch
SUMMARY:Sauvages Comestibles
DESCRIPTION:2 options disponibles ci-dessous:\n\n1 stage « Sauvages Comestibles »\nà 45.-\nde 9h00 à 12h00\n\nou alors\,\n\n\n1 stage « Sauvages Comestibles »\n+\nle repas « Saveurs Sauvages »\nà 54.-\nde 9h00 à 13h15\n\n  \n\nDe grandes valeurs nutritives et médicinales\, les plantes sauvages ont toujours offert une abondance de richesses alimentaires disponibles et\, très souvent\, à deux pas de chez soi. Bords de chemins\, sous-bois\, jardins\, cours d’eau\, parcs\, nombreux sont les milieux où se nichent ses trésors\, alors que nous les fréquentons quotidiennement sans pour autant les connaître. \nDans une société si fragile en terme d’autonomie alimentaire\, les plantes sauvages représentent une véritable manne de ressources gratuites et renouvelables\, pour autant que l’on sache les reconnaître\, puisque certaines d’entre elles sont toxiques\, voir mortelles pour l’être humain. \nNéanmoins\, quoi de mieux que de faire ses courses en pleine Nature avec une approche respectueuse du Vivant\, tout en se reconnectant à la Terre et son énergie revitalisante ? \nVenez donc découvrir les abondants cadeaux de la Terre en apprenant à identifier au moins 10 plantes sauvages comestibles\, quelques recettes originales et applications thérapeutiques. \n\nHoraires & Programme du stage\n\n9h – 10h :\nIntroduction théorique aux plantes sauvages (approche & règles de cueillette)\n10h – 11h15 :\nCueillette sauvage au Parc PawPaw et ses environs (vous repartirez chez vous avec un pochon d’aliments sauvages fraichement cueillis)\n11h15 – 12h00 :\nRetour au Parc PawPaw pour un partage d’impressions et réflexions\n12h00 – 13h00 (en option) :\nBuffet composé de diverses recettes à base de plantes sauvages comestibles\, dont quelques surprises culinaires très originales\n(Repas inclus en choisissant la 2ème option à 54 CHF ci-dessous)\n\n\n 
URL:https://parcpawpaw.ch/atelier/nos-sauvages-comestibles/
LOCATION:Parc PawPaw\, Chemin des Groubeaux\, 1246\, Corsier\,\, Genève\, Suisse
CATEGORIES:Low-Tech,Permaculture
ATTACH;FMTTYPE=image/jpeg:https://parcpawpaw.ch/wp-content/uploads/2024/03/IMG-20240305-WA0006-e1724250746917.jpg
END:VEVENT
BEGIN:VEVENT
DTSTART;TZID=Europe/Zurich:20240406T140000
DTEND;TZID=Europe/Zurich:20240406T170000
DTSTAMP:20260420T104453
CREATED:20240314T141050Z
LAST-MODIFIED:20240319T160254Z
UID:10000053-1712412000-1712422800@parcpawpaw.ch
SUMMARY:Permaculture Famille
DESCRIPTION:Initiation à la Permaculture en Famille \nBien plus qu’une simple philosophie de jardinage naturel\, la Permaculture traite tous les aspects de nos modes de vie et offre de véritables solutions concrètes quant aux actuels enjeux écologiques\, économiques et sociétaux. \nA 15 minutes du centre-ville de Genève\, vous serez plongé en totale immersion dans un Jardin-Forêt aux allures d’oasis de biodiversité\, le Parc PawPaw. \nDans ce cadre vivant\, thérapeutique et d’une exceptionnelle beauté naturelle\, vous y trouverez un Jardin-Forêt aux mille couleurs\, quelques écoconstructions féériques et un espace de jeux Nature pour les jeunes pousses. Vous découvrirez la philosophie de la Permaculture au travers de jeux\, ateliers et découvertes\, qui vous révèleront les secrets du Vivant. \nParticipez avec vos enfants à une activité originale de plein air et de sens ! Plus qu’une simple demi-journée de loisirs\, la beauté du Parc PawPaw et l’enchantement qui vous y trouverez vous feront voyager hors du temps ! \n\nHoraires et Programme\n\n14h00 – 14h30 :\nBonjour à tous et jeu d’introduction\n14h30 – 16h15 :\npour les parents:\nvisite et présentation du Parc PawPaw\npour les jeunes pousses:\nateliers découvertes avec nos animateurs Nature + temps libre à l’espace ludique\n16h15 – 17h00 :\nJeu et au revoir à tous
URL:https://parcpawpaw.ch/atelier/permaculture-famille/
LOCATION:Parc PawPaw\, Chemin des Groubeaux\, 1246\, Corsier\,\, Genève\, Suisse
CATEGORIES:Ecoconstruction,Low-Tech,Permaculture
ATTACH;FMTTYPE=image/jpeg:https://parcpawpaw.ch/wp-content/uploads/2024/03/IMG-20240118-WA0004-e1724009466895.jpg
END:VEVENT
END:VCALENDAR